BEGIN:VCALENDAR
VERSION:2.0
PRODID:-//Karlsgymnasium - ECPv4.9.6//NONSGML v1.0//EN
CALSCALE:GREGORIAN
METHOD:PUBLISH
X-WR-CALNAME:Karlsgymnasium
X-ORIGINAL-URL:https://www.karlsgymnasium.org
X-WR-CALDESC:Veranstaltungen im Karlsgymnasium
BEGIN:VTIMEZONE
TZID:"UTC"
BEGIN:STANDARD
TZOFFSETFROM:+0000
TZOFFSETTO:+0000
TZNAME:UTC
DTSTART:20190101T000000
END:STANDARD
END:VTIMEZONE
BEGIN:VEVENT
DTSTART;VALUE=DATE:20191105
DTEND;VALUE=DATE:20191106
DTSTAMP:20260424T225207
CREATED:20191007T054418Z
LAST-MODIFIED:20191018T061731Z
UID:981-1572912000-1572998399@www.karlsgymnasium.org
SUMMARY:Abgabe der W-Seminararbeit
DESCRIPTION:
URL:https://www.karlsgymnasium.org/event/abgabe-der-w-seminararbeit/
END:VEVENT
END:VCALENDAR