BEGIN:VCALENDAR
VERSION:2.0
PRODID:-//Karlsgymnasium - ECPv4.9.6//NONSGML v1.0//EN
CALSCALE:GREGORIAN
METHOD:PUBLISH
X-WR-CALNAME:Karlsgymnasium
X-ORIGINAL-URL:https://www.karlsgymnasium.org
X-WR-CALDESC:Veranstaltungen im Karlsgymnasium
BEGIN:VTIMEZONE
TZID:"UTC"
BEGIN:STANDARD
TZOFFSETFROM:+0000
TZOFFSETTO:+0000
TZNAME:UTC
DTSTART:20190101T000000
END:STANDARD
END:VTIMEZONE
BEGIN:VEVENT
DTSTART;TZID="UTC":20191003T000000
DTEND;TZID="UTC":20191004T000000
DTSTAMP:20260425T105057
CREATED:20190819T135445Z
LAST-MODIFIED:20190819T135445Z
UID:589-1570060800-1570147200@www.karlsgymnasium.org
SUMMARY:Chorprobentage in Pullach
DESCRIPTION:
URL:https://www.karlsgymnasium.org/event/chorprobentage-in-pullach/
END:VEVENT
END:VCALENDAR