BEGIN:VCALENDAR
VERSION:2.0
PRODID:-//Karlsgymnasium - ECPv4.9.6//NONSGML v1.0//EN
CALSCALE:GREGORIAN
METHOD:PUBLISH
X-WR-CALNAME:Karlsgymnasium
X-ORIGINAL-URL:https://www.karlsgymnasium.org
X-WR-CALDESC:Veranstaltungen im Karlsgymnasium
BEGIN:VTIMEZONE
TZID:"UTC"
BEGIN:STANDARD
TZOFFSETFROM:+0000
TZOFFSETTO:+0000
TZNAME:UTC
DTSTART:20190101T000000
END:STANDARD
END:VTIMEZONE
BEGIN:VEVENT
DTSTART;TZID="UTC":20191001T160000
DTEND;TZID="UTC":20191001T210000
DTSTAMP:20260425T143330
CREATED:20190819T135257Z
LAST-MODIFIED:20190819T135257Z
UID:584-1569945600-1569963600@www.karlsgymnasium.org
SUMMARY:Info
DESCRIPTION:16:00 - 17:30 Einstandsfest der fünften Klassen\n17:30 - 18:30 Klassenelternabend 5. Jgst.\n19:15 - 19:30 Info Italienaustausch (10. Jgst.)\n19:30 - 20:30 Klassenelternabend 10. Jgst.\n20:30 - 21:00 Info Griechisch / Französisch\n
URL:https://www.karlsgymnasium.org/event/info-2/
END:VEVENT
END:VCALENDAR