BEGIN:VCALENDAR
VERSION:2.0
PRODID:-//Karlsgymnasium - ECPv4.9.6//NONSGML v1.0//EN
CALSCALE:GREGORIAN
METHOD:PUBLISH
X-WR-CALNAME:Karlsgymnasium
X-ORIGINAL-URL:https://www.karlsgymnasium.org
X-WR-CALDESC:Veranstaltungen im Karlsgymnasium
BEGIN:VTIMEZONE
TZID:"UTC"
BEGIN:STANDARD
TZOFFSETFROM:+0000
TZOFFSETTO:+0000
TZNAME:UTC
DTSTART:20190101T000000
END:STANDARD
END:VTIMEZONE
BEGIN:VEVENT
DTSTART;VALUE=DATE:20191021
DTEND;VALUE=DATE:20191026
DTSTAMP:20260425T022910
CREATED:20190819T135849Z
LAST-MODIFIED:20190819T135849Z
UID:604-1571616000-1572047999@www.karlsgymnasium.org
SUMMARY:Schullandheim der fünften Klassen
DESCRIPTION:
URL:https://www.karlsgymnasium.org/event/schullandheim-der-fuenften-klassen/
END:VEVENT
END:VCALENDAR