BEGIN:VCALENDAR
VERSION:2.0
PRODID:-//Karlsgymnasium - ECPv4.9.6//NONSGML v1.0//EN
CALSCALE:GREGORIAN
METHOD:PUBLISH
X-WR-CALNAME:Karlsgymnasium
X-ORIGINAL-URL:https://www.karlsgymnasium.org
X-WR-CALDESC:Veranstaltungen im Karlsgymnasium
BEGIN:VTIMEZONE
TZID:"UTC"
BEGIN:STANDARD
TZOFFSETFROM:+0000
TZOFFSETTO:+0000
TZNAME:UTC
DTSTART:20190101T000000
END:STANDARD
END:VTIMEZONE
BEGIN:VEVENT
DTSTART;VALUE=DATE:20191017
DTEND;VALUE=DATE:20191019
DTSTAMP:20260425T040549
CREATED:20190819T135814Z
LAST-MODIFIED:20190819T135814Z
UID:601-1571270400-1571443199@www.karlsgymnasium.org
SUMMARY:SMV-Seminar in Kempten
DESCRIPTION:
URL:https://www.karlsgymnasium.org/event/smv-seminar-in-kempten/
END:VEVENT
END:VCALENDAR