BEGIN:VCALENDAR
VERSION:2.0
PRODID:-//Karlsgymnasium - ECPv4.9.6//NONSGML v1.0//EN
CALSCALE:GREGORIAN
METHOD:PUBLISH
X-WR-CALNAME:Karlsgymnasium
X-ORIGINAL-URL:https://www.karlsgymnasium.org
X-WR-CALDESC:Veranstaltungen im Karlsgymnasium
BEGIN:VTIMEZONE
TZID:"UTC"
BEGIN:STANDARD
TZOFFSETFROM:+0000
TZOFFSETTO:+0000
TZNAME:UTC
DTSTART:20190101T000000
END:STANDARD
END:VTIMEZONE
BEGIN:VEVENT
DTSTART;TZID="UTC":20191108T180000
DTEND;TZID="UTC":20191108T210000
DTSTAMP:20260424T192054
CREATED:20191018T061642Z
LAST-MODIFIED:20191018T061642Z
UID:1079-1573236000-1573246800@www.karlsgymnasium.org
SUMMARY:Unterstufenparty
DESCRIPTION:In der Mensa \n
URL:https://www.karlsgymnasium.org/event/unterstufenparty/
END:VEVENT
END:VCALENDAR