BEGIN:VCALENDAR
VERSION:2.0
PRODID:-//Karlsgymnasium - ECPv4.9.6//NONSGML v1.0//EN
CALSCALE:GREGORIAN
METHOD:PUBLISH
X-WR-CALNAME:Karlsgymnasium
X-ORIGINAL-URL:https://www.karlsgymnasium.org
X-WR-CALDESC:Veranstaltungen im Karlsgymnasium
BEGIN:VTIMEZONE
TZID:"UTC"
BEGIN:STANDARD
TZOFFSETFROM:+0000
TZOFFSETTO:+0000
TZNAME:UTC
DTSTART:20190101T000000
END:STANDARD
END:VTIMEZONE
BEGIN:VEVENT
DTSTART;TZID="UTC":20190927T000000
DTEND;TZID="UTC":20191024T000000
DTSTAMP:20260425T155954
CREATED:20190819T135205Z
LAST-MODIFIED:20190819T135205Z
UID:580-1569542400-1571875200@www.karlsgymnasium.org
SUMMARY:Workshops Mediensucht
DESCRIPTION:9B: 27.09.2019\n7A: 10.10.2019\n7B: 11.10.2019\n7C: 17.10.2019\n7D: 24.10.2019\n
URL:https://www.karlsgymnasium.org/event/workshops-mediensucht/
END:VEVENT
END:VCALENDAR